BEGIN:VCALENDAR
VERSION:2.0
PRODID:-//CENFORMA - ECPv4.7.0.1//NONSGML v1.0//EN
CALSCALE:GREGORIAN
METHOD:PUBLISH
X-WR-CALNAME:CENFORMA
X-ORIGINAL-URL:https://www.cenforma.net
X-WR-CALDESC:Events for CENFORMA
BEGIN:VEVENT
DTSTART;VALUE=DATE:20220523
DTEND;VALUE=DATE:20220524
DTSTAMP:20260423T165736
CREATED:20220503T101407Z
LAST-MODIFIED:20220512T151014Z
UID:2863-1653264000-1653350399@www.cenforma.net
SUMMARY:Capacitação Digital de Docentes – Nível 1 – (2022_09)
DESCRIPTION:FORMADOR: Alberto Fernandes \nMODALIDADE: Oficina de Formação \nDURAÇÃO: 50 horas (25hs + 25hs) \nDESTINATÁRIOS: Professores do Todos os Grupos\, classificados no nível 1 de proficiência digital através do questionário “Check-In”. \nOBJETIVOS: \nEsta ação de formação pretende desenvolver com os docentes de nível 1 (A1/A2 do DigCompEdu) um conjunto de conhecimentos e estratégias que lhes permita desenvolver CD do nível seguinte (B1/B2 do DigCompEdu). \nSão objetivos específicos: \n– Promover o desenvolvimento das CD dos docentes\, tendo em vista as 6 áreas do referencial DigCompEdu; \n– Capacitar os docentes para a realização de atividades com tecnologias digitais em diferentes modalidades de ensino; \n– Capacitar os docentes na utilização significativa de ambientes e ferramentas digitais e definição de estratégias diversificadas de integração destes em contexto educativo; \n– Capacitar os docentes para a implementação de atividades promotoras da aprendizagem e o desenvolvimento das CD dos alunos. \nCRONOGRAMA: \n⇒ MAIO: 23 e 27 – Sessão Presencial \n⇒ JUNHO:  06 e 27 – Sessão Assíncrona; 13 e 20 – Sessão Presencial \n⇒ JULHO: 04 e 11– Sessão Presencial \n HORÁRIO: Das 17:30h às 20:30h. \nLOCAL DE REALIZAÇÃO: Escola Básica D. Pedro Varela \n
URL:https://www.cenforma.net/event/1-o-ciclo-capacitacao-digital-de-docentes-nivel-1-2022_09/
END:VEVENT
END:VCALENDAR