BEGIN:VCALENDAR
VERSION:2.0
PRODID:-//CENFORMA - ECPv4.7.0.1//NONSGML v1.0//EN
CALSCALE:GREGORIAN
METHOD:PUBLISH
X-WR-CALNAME:CENFORMA
X-ORIGINAL-URL:https://www.cenforma.net
X-WR-CALDESC:Events for CENFORMA
BEGIN:VEVENT
DTSTART;VALUE=DATE:20221018
DTEND;VALUE=DATE:20221019
DTSTAMP:20260423T151446
CREATED:20220923T105350Z
LAST-MODIFIED:20220923T105408Z
UID:2915-1666051200-1666137599@www.cenforma.net
SUMMARY:1.º Ciclo - Capacitação Digital de Docentes - Nível 2 (2022-24)
DESCRIPTION:FORMADOR(A): Alberto Fernandes \nMODALIDADE: Oficina de Formação \nDURAÇÃO: 50 horas (25hs + 25hs) \nDESTINATÁRIOS: Docentes que lecionem no 1º CEB\, classificados no nível 2 de proficiência digital através do questionário “Check-In” ou que já tenham adquirido as competências do nível 1 . \nOBJETIVOS:  \nEsta ação de formação pretende desenvolver com os docentes de nível 2 (B1/B2 do DigCompEdu) um conjunto de conhecimentos e estratégias que lhes permita desenvolver CD do nível seguinte (C1/C2 do DigCompEdu). \n São objetivos específicos:  \n– Promover o desenvolvimento\, aprofundamento e densificação das CD dos docentes\, tendo em vista as 6 áreas do referencial DigCompEdu; \n– Capacitar os docentes para a realização de atividades com tecnologias digitais em diferentes modalidades de ensino;  \n– Capacitar os docentes para a implementação de atividades que promovam a aprendizagem e o desenvolvimento das CD dos alunos;                \n– Estimular a reflexão\, partilha e utilização crítica das tecnologias em contexto educativo. \nCRONOGRAMA: \nOutubro ⇒ 18\, 25 e 27. \nNovembro ⇒ 08\, 15\, 22 e 29 \nDezembro ⇒ 06. \n \nDas 18:30h às 21:30h. \nLOCAL DE REALIZAÇÃO: (PRESENCIAL) Escola Básica D. Pedro Varela (Montijo). \n
URL:https://www.cenforma.net/event/1-o-ciclo-capacitacao-digital-de-docentes-nivel-2-2022-24/
END:VEVENT
END:VCALENDAR