BEGIN:VCALENDAR
VERSION:2.0
PRODID:-//CENFORMA - ECPv4.7.0.1//NONSGML v1.0//EN
CALSCALE:GREGORIAN
METHOD:PUBLISH
X-WR-CALNAME:CENFORMA
X-ORIGINAL-URL:https://www.cenforma.net
X-WR-CALDESC:Events for CENFORMA
BEGIN:VEVENT
DTSTART;VALUE=DATE:20220517
DTEND;VALUE=DATE:20220518
DTSTAMP:20260423T190013
CREATED:20220503T101324Z
LAST-MODIFIED:20220503T101324Z
UID:2865-1652745600-1652831999@www.cenforma.net
SUMMARY:1.º Ciclo – Capacitação Digital de Docentes – Nível 2 – (2022_10)
DESCRIPTION:FORMADOR: Alberto Fernandes \nMODALIDADE: Oficina de Formação \nDURAÇÃO: 50 horas (25hs + 25hs) \nDESTINATÁRIOS: Professores do 1.º Ciclo do Ensino Básico\, classificados no nível 2 de proficiência digital através do questionário “Check-In”. \nOBJETIVOS: \nEsta ação de formação pretende desenvolver com os docentes de nível 2 (B1/B2 do DigCompEdu) um conjunto de conhecimentos e estratégias que lhes permita desenvolver CD do nível seguinte (C1/C2 do DigCompEdu). \nSão objetivos específicos: \n– Promover o desenvolvimento\, aprofundamento e densificação das CD dos docentes\, tendo em vista as 6 áreas do referencial DigCompEdu; \n– Capacitar os docentes para a realização de atividades com tecnologias digitais em diferentes modalidades de ensino; \n– Capacitar os docentes para a implementação de atividades que promovam a aprendizagem e o desenvolvimento das CD dos alunos; \n– Estimular a reflexão\, partilha e utilização crítica das tecnologias em contexto educativo. \nCRONOGRAMA: \n⇒ MAIO: 17 e 24 – Sessão Síncrona; 31 – Sessão Assíncrona \n⇒ JUNHO: 07; 14 e 28 – Sessão Síncrona; 21 – Sessão Assíncrona \n⇒ JULHO: 05 – Sessão Síncrona \nHORÁRIO: Das 17:30h às 20:30h. \nLOCAL DE REALIZAÇÃO: Online e a Distância – Plataforma ZOOM + MOODLE \n
URL:https://www.cenforma.net/event/1-o-ciclo-capacitacao-digital-de-docentes-nivel-2-2022_10/
END:VEVENT
END:VCALENDAR