BEGIN:VCALENDAR
VERSION:2.0
PRODID:-//CENFORMA - ECPv4.7.0.1//NONSGML v1.0//EN
CALSCALE:GREGORIAN
METHOD:PUBLISH
X-WR-CALNAME:CENFORMA
X-ORIGINAL-URL:https://www.cenforma.net
X-WR-CALDESC:Events for CENFORMA
BEGIN:VEVENT
DTSTART;VALUE=DATE:20220518
DTEND;VALUE=DATE:20220519
DTSTAMP:20260423T165016
CREATED:20220503T101236Z
LAST-MODIFIED:20220509T113133Z
UID:2869-1652832000-1652918399@www.cenforma.net
SUMMARY:2.º e 3.º Ciclos - Capacitação Digital de Docentes – Nível 2 - (2022_08)
DESCRIPTION:FORMADOR: José Ferreira \nMODALIDADE: Oficina de Formação \nDURAÇÃO: 50 horas (25hs + 25hs) \nDESTINATÁRIOS: Todos os docentes que lecionam maioritariamente no 2.º e 3.º Ciclos\, classificados no nível 2 de proficiência digital através do questionário “Check-In”. \nOBJETIVOS:  \nEsta ação de formação pretende desenvolver com os docentes de nível 2 (B1/B2 do DigCompEdu) um conjunto de conhecimentos e estratégias que lhes permita desenvolver CD do nível seguinte (C1/C2 do DigCompEdu). \nSão objetivos específicos: \n– Promover o desenvolvimento\, aprofundamento e densificação das CD dos docentes\, tendo em vista as 6 áreas do referencial DigCompEdu; \n– Capacitar os docentes para a realização de atividades com tecnologias digitais em diferentes modalidades de ensino; \n– Capacitar os docentes para a implementação de atividades que promovam a aprendizagem e o desenvolvimento das CD dos alunos; \n– Estimular a reflexão\, partilha e utilização crítica das tecnologias em contexto educativo. \nCRONOGRAMA: \n⇒ MAIO: 18 e 25 – Sessão Presencial;    \n⇒ JUNHO: 01; 08 e 22 – Sessão Assíncrona;  15 e 28 – Sessão Presencial \nHORÁRIO: Das 18:30h às 21:30h. \nLOCAL DE REALIZAÇÃO: Escola Secundária Poeta Joaquim Serra e Online \nLimite máximo de participantes: 20 \n
URL:https://www.cenforma.net/event/2-o-e-3-o-ciclos-capacitacao-digital-de-docentes-nivel-2-2022_08/
END:VEVENT
END:VCALENDAR