BEGIN:VCALENDAR
VERSION:2.0
PRODID:-//CENFORMA - ECPv4.7.0.1//NONSGML v1.0//EN
CALSCALE:GREGORIAN
METHOD:PUBLISH
X-WR-CALNAME:CENFORMA
X-ORIGINAL-URL:https://www.cenforma.net
X-WR-CALDESC:Events for CENFORMA
BEGIN:VEVENT
DTSTART;VALUE=DATE:20221219
DTEND;VALUE=DATE:20230103
DTSTAMP:20260423T165349
CREATED:20221219T134855Z
LAST-MODIFIED:20221219T134934Z
UID:3008-1671408000-1672703999@www.cenforma.net
SUMMARY:A EQUIPA DO CENFORMA DESEJA-LHE BOAS FESTAS!
DESCRIPTION:\nMarta Alves  –   DIRETORA DO CENFORMA – Centro de Formação de Professores de Montijo e Alcochete \n  \n
URL:https://www.cenforma.net/event/a-equipa-do-cenforma-deseja-lhe-boas-festas/
END:VEVENT
END:VCALENDAR