BEGIN:VCALENDAR
VERSION:2.0
PRODID:-//CENFORMA - ECPv4.7.0.1//NONSGML v1.0//EN
CALSCALE:GREGORIAN
METHOD:PUBLISH
X-WR-CALNAME:CENFORMA
X-ORIGINAL-URL:https://www.cenforma.net
X-WR-CALDESC:Events for CENFORMA
BEGIN:VEVENT
DTSTART;VALUE=DATE:20220922
DTEND;VALUE=DATE:20220923
DTSTAMP:20260423T101430
CREATED:20220923T114600Z
LAST-MODIFIED:20220923T114600Z
UID:2964-1663804800-1663891199@www.cenforma.net
SUMMARY:Aprendizagens essenciais de Matemática para o 3.º ciclo do Ensino Básico (2022-14)
DESCRIPTION:FORMADOR: Dr.º Carlos Carvalho \nMODALIDADE: Oficina de Formação \nDURAÇÃO: 50 horas (25hs + 25hs) \nDESTINATÁRIOS: Professores do grupo de recrutamento 500 \nOBJETIVOS:  \n• Compreender\, de forma aprofundada\, as orientações curriculares expressas nas novas AE de Matemática para o Ensino Básico\, o seu racional e as consequências para o ensino da Matemática;\n• Estar dotados com o conhecimento didático e o conhecimento matemático requeridos para o ensino orientado pelas novas AE de Matemática para o Ensino Básico;\n• Realizar práticas de ensino de Matemática que contemplem a planificação de aulas\, a sua concretização e consequente reflexão\, em contextos de trabalho colaborativo\, tornando-se sensíveis e capazes de resolução para os problemas que possam surgir na prática de ensino das novas AE de Matemática para o 3.º ciclo do Ensino Básico. \nCRONOGRAMA: \nSetembro ⇒ 22 \nOutubro ⇒ 06 e 20 \nNovembro ⇒ 03 e 17 \nDezembro ⇒ 15 \nJaneiro ⇒ 05 e 19 \nFevereiro ⇒ 09 e 23 \nLOCAL DE REALIZAÇÃO: (PRESENCIAL) Escola Secundária Jorge Peixinho. \nHORÁRIO: das 18:30h às 20:00h. \n
URL:https://www.cenforma.net/event/aprendizagens-essenciais-de-matematica-para-o-3-o-ciclo-do-ensino-basico-2022-14/
END:VEVENT
END:VCALENDAR