BEGIN:VCALENDAR
VERSION:2.0
PRODID:-//CENFORMA - ECPv4.7.0.1//NONSGML v1.0//EN
CALSCALE:GREGORIAN
METHOD:PUBLISH
X-WR-CALNAME:CENFORMA
X-ORIGINAL-URL:https://www.cenforma.net
X-WR-CALDESC:Events for CENFORMA
BEGIN:VEVENT
DTSTART;VALUE=DATE:20211224
DTEND;VALUE=DATE:20220102
DTSTAMP:20260424T021104
CREATED:20211224T161938Z
LAST-MODIFIED:20211224T161938Z
UID:2821-1640304000-1641081599@www.cenforma.net
SUMMARY:BOAS FESTAS!!!
DESCRIPTION: \n
URL:https://www.cenforma.net/event/boas-festas/
END:VEVENT
END:VCALENDAR