BEGIN:VCALENDAR
VERSION:2.0
PRODID:-//CENFORMA - ECPv4.7.0.1//NONSGML v1.0//EN
CALSCALE:GREGORIAN
METHOD:PUBLISH
X-WR-CALNAME:CENFORMA
X-ORIGINAL-URL:https://www.cenforma.net
X-WR-CALDESC:Events for CENFORMA
BEGIN:VEVENT
DTSTART;VALUE=DATE:20231012
DTEND;VALUE=DATE:20231013
DTSTAMP:20260420T082052
CREATED:20230917T160055Z
LAST-MODIFIED:20230921T144615Z
UID:3094-1697068800-1697155199@www.cenforma.net
SUMMARY:Capacitação Digital de Docentes – Nível 1
DESCRIPTION:FORMADOR: Marco Antunes \nMODALIDADE: Oficina de Formação \nDURAÇÃO: 50 horas (25hs + 25hs) \nÁREA DE FORMAÇÃO: G – Tecnologias da informação e comunicação aplicadas a didáticas específicas ou à gestão escolar \nDESTINATÁRIOS: Professores dos Ensinos Básico e Secundário\, Professores de Educação Especial\, classificados no nível 1 de proficiência digital através do questionário “Check-In”. \nOBJETIVOS: \nEsta ação de formação pretende desenvolver com os docentes de nível 1 (A1/A2 do DigCompEdu) um conjunto de conhecimentos e estratégias que lhes permita desenvolver CD do nível seguinte (B1/B2 do DigCompEdu). \nSão objetivos específicos: \n– Promover o desenvolvimento das CD dos docentes\, tendo em vista as 6 áreas do referencial DigCompEdu; \n– Capacitar os docentes para a realização de atividades com tecnologias digitais em diferentes modalidades de ensino; \n– Capacitar os docentes na utilização significativa de ambientes e ferramentas digitais e definição de estratégias diversificadas de integração destes em contexto educativo; \n– Capacitar os docentes para a implementação de atividades promotoras da aprendizagem e o desenvolvimento das CD dos alunos. \nCRONOGRAMA: \n\n\n\n\nSESSĂO \n\nDATA\nHORÁRIO\nPresencial \n\nFORMADOR \n\n\n\n\n1 \n\n12-10-2023\n18:30 – 21:30\n\nPresencial \n\n  \nMarco Antunes \n  \n  \n \n\n\n\n2 \n\n19-10-2023\n18:30 – 21:30\n\nPresencial \n\n\n\n\n3 \n\n26-10-2023\n18:30 – 21:30\n\nPresencial \n\n\n\n\n4 \n\n02-11-2023\n18:30 – 21:30\n\nPresencial \n\n\n\n\n5 \n\n09-11-2023\n18:30 – 21:30\n\nPresencial \n\n\n\n\n6 \n\n16-11-2023\n18:30 – 21:30\n\nPresencial \n\n\n\n\n7 \n\n23-11-2023\n18:30 – 21:30\n\nPresencial \n\n\n\n\n8 \n\n30-11-2023\n18:30 – 22:30\n\nPresencial \n\n\n\n\n  \nLOCAL DE REALIZAÇÃO:  \nSessões Presenciais: Escola Secundária Jorge Peixinho \n
URL:https://www.cenforma.net/event/capacitacao-digital-de-docentes-nivel-1/
END:VEVENT
END:VCALENDAR