BEGIN:VCALENDAR
VERSION:2.0
PRODID:-//CENFORMA - ECPv4.7.0.1//NONSGML v1.0//EN
CALSCALE:GREGORIAN
METHOD:PUBLISH
X-WR-CALNAME:CENFORMA
X-ORIGINAL-URL:https://www.cenforma.net
X-WR-CALDESC:Events for CENFORMA
BEGIN:VEVENT
DTSTART;VALUE=DATE:20220223
DTEND;VALUE=DATE:20220224
DTSTAMP:20260423T193531
CREATED:20220208T114256Z
LAST-MODIFIED:20220208T122628Z
UID:2849-1645574400-1645660799@www.cenforma.net
SUMMARY:Criatividade – um “ingrediente” indispensável no ensino das ciências
DESCRIPTION:AÇÃO DE CURTA DURAÇÃO \nAcreditável em 3 horas mediante requerimento Individual de ACD \nFORMADORA: Helena Fonseca (Grau Mestre) \nDATA DE REALIZAÇÃO: 23 de Fevereiro –  Das: 18:00hs Às 21:00hs \nPÚBLICO-ALVO: Professores dos grupos: 230\, 500\, 510 e 520 \nCONTEÚDOS DA AÇÃO:  \nBreve enquadramento do estudo de investigação “Criatividade científica e ensino das ciências no 2º e 3º ciclos do ensino básico” \nReflexão acerca das perceções de criatividade e o ensino das ciências: preenchimento de um questionário online a partir do qual se desencadeia a ação-reflexão. \nReflexão acerca da criatividade e especificamente da criatividade científica através das questões: \n– Em que consiste a criatividade e a criatividade científica? Como se relacionam? \n– Que fatores influenciam o ensino-aprendizagem da criatividade científica? \n– Como promover a criatividade científica na sala de aula? \nLOCAL DE REALIZAÇÃO: Plataforma ZOOM \nINSCRIÇÕES OBRIGATÓRIAS:  www.cenforma.net \nN.º Máximo de Participantes: 40 \n
URL:https://www.cenforma.net/event/criatividade-um-ingrediente-indispensavel-no-ensino-das-ciencias/
END:VEVENT
END:VCALENDAR