BEGIN:VCALENDAR
VERSION:2.0
PRODID:-//CENFORMA - ECPv4.7.0.1//NONSGML v1.0//EN
CALSCALE:GREGORIAN
METHOD:PUBLISH
X-WR-CALNAME:CENFORMA
X-ORIGINAL-URL:https://www.cenforma.net
X-WR-CALDESC:Events for CENFORMA
BEGIN:VEVENT
DTSTART;VALUE=DATE:20220119
DTEND;VALUE=DATE:20220120
DTSTAMP:20260423T224745
CREATED:20220105T163739Z
LAST-MODIFIED:20220106T095313Z
UID:2826-1642550400-1642636799@www.cenforma.net
SUMMARY:Gamificação em Educação - Conceito e ferramentas
DESCRIPTION:Ação de Formação –  ESGOTADA\nFORMADOR: João Mouro\nMODALIDADE: Curso de Formação (e-learning) \nDURAÇÃO: 25 horas \nDESTINATÁRIOS:  \nEd. de Infância\, e Docentes dos Ensinos Básico e Secundário e Educação Especial \nLOCAL DE REALIZAÇÃO: Sessões online Plataformas ZOOM + MOODLE \nCRONOGRAMA   \nSESSÕES              DATA                                   \n1 – Síncrona         19-01-2022          18:00 – 21:00;    \n2 – Assíncronas    26-01-2022                         \n3 – Assíncronas    02-02-2022                         \n4 – Assíncronas    09-02-2022                                         \n5 – Assíncronas    16-02-2022                         \n6 – Assíncronas    23-02-2022                                         \n7 – Assíncronas    02-03-2022                         \n8 – Síncrona         09-03-2022          18:00 – 22:00.    \nOBJETIVOS: \n1 – Compreender o conceito de “gamificação”; \n2 – Desenvolver dinâmicas de “gamificação” aplicadas ao ensino; \n3 – Conhecer algumas ferramentas e aplicações que permitem implementação de “gamificação” em contexto educativo; \n4 – Partilhar boas práticas do uso de “gamificação”. \nMATERIAL: \n– Computador com câmara e microfone; \n– Ligação à internet\, de preferência por cabo; \n– Auscultadores (preferencial); \nCUSTO: Sem custo \nN.º Máximo: 15  – ESGOTADA \nINSCRIÇÕES EM:  www.cenforma.net \n
URL:https://www.cenforma.net/event/gamificacao-em-educacao-conceito-e-ferramentas/
END:VEVENT
END:VCALENDAR