BEGIN:VCALENDAR
VERSION:2.0
PRODID:-//CENFORMA - ECPv4.7.0.1//NONSGML v1.0//EN
CALSCALE:GREGORIAN
METHOD:PUBLISH
X-WR-CALNAME:CENFORMA
X-ORIGINAL-URL:https://www.cenforma.net
X-WR-CALDESC:Events for CENFORMA
BEGIN:VEVENT
DTSTART;VALUE=DATE:20220913
DTEND;VALUE=DATE:20220914
DTSTAMP:20260423T115525
CREATED:20220826T130025Z
LAST-MODIFIED:20220910T194918Z
UID:2899-1663027200-1663113599@www.cenforma.net
SUMMARY:IX ENCONTRO DE PROFESSORES E EDUCADORES DE MONTIJO E ALCOCHETE
DESCRIPTION:  \n
URL:https://www.cenforma.net/event/ix-encontro-de-professores-e-educadores-de-montijo-e-alcochete-2/
END:VEVENT
END:VCALENDAR