BEGIN:VCALENDAR
VERSION:2.0
PRODID:-//CENFORMA - ECPv4.7.0.1//NONSGML v1.0//EN
CALSCALE:GREGORIAN
METHOD:PUBLISH
X-WR-CALNAME:CENFORMA
X-ORIGINAL-URL:https://www.cenforma.net
X-WR-CALDESC:Events for CENFORMA
BEGIN:VEVENT
DTSTART;VALUE=DATE:20221109
DTEND;VALUE=DATE:20221110
DTSTAMP:20260423T131753
CREATED:20221027T121740Z
LAST-MODIFIED:20221107T102409Z
UID:2988-1667952000-1668038399@www.cenforma.net
SUMMARY:MANUAIS DIGITAIS:  potencialidade pedagógicas\, desafios e oportunidades
DESCRIPTION:ESGOTADO\n \n
URL:https://www.cenforma.net/event/manuais-digitais-potencialidade-pedagogicas-ameacas-e-oportunidades/
END:VEVENT
END:VCALENDAR