BEGIN:VCALENDAR
VERSION:2.0
PRODID:-//CENFORMA - ECPv4.7.0.1//NONSGML v1.0//EN
CALSCALE:GREGORIAN
METHOD:PUBLISH
X-WR-CALNAME:CENFORMA
X-ORIGINAL-URL:https://www.cenforma.net
X-WR-CALDESC:Events for CENFORMA
BEGIN:VEVENT
DTSTART;VALUE=DATE:20220302
DTEND;VALUE=DATE:20220303
DTSTAMP:20260423T204049
CREATED:20220105T164403Z
LAST-MODIFIED:20220228T101906Z
UID:2834-1646179200-1646265599@www.cenforma.net
SUMMARY:O estudo autónomo e o apoio individualizado às aprendizagens na sala de aula
DESCRIPTION:Ação de Formação  CANCELADA\nFORMADOR: Luís Mestre\nMODALIDADE: Oficina de Formação \nDURAÇÃO: 50 horas (25 presenciais + 25 trabalho autónomo) \nDESTINATÁRIOS:  \nDocentes do Grupo de Recrutamento 110 \nLOCAL DE REALIZAÇÃO: Escola Secundária Jorge Peixinho (PRESENCIAL) \nCRONOGRAMA   \nSESSÕES              DATA                     HORÁRIO \n1                             02-03-2022          18:00- 21:30 \n2                             16-03-2022          18:00- 21:00 \n3                             30-03-2022          18:00- 21:00 \n4                             06-04-2022          18:00- 21:00 \n5                             20-04-2022          18:00- 21:00 \n6                             04-05-2022          18:00- 21:00 \n7                             18-05-2022          18:00- 21:00 \n8                             01-06-2022          18:00- 21:30 \nOBJETIVOS: \n\nDesenvolver um tempo de estudo autónomo diário\, de forma a diferenciar o ensino e a aprendizagem\, tendo em vista o sucesso curricular de todos os alunos;\nDesenvolver a autonomia\, a responsabilidade\, a cooperação e a participação ativa dos alunos na apropriação do currículo escolar;\nDesenvolver competências de estudo autónomo (planeamento\, gestão e autorregulação) nos alunos;\nPromover o apoio (sistemático\, interativo e eficaz) individual aos alunos com dificuldades na aprendizagem curricular.\nDesenvolver parcerias eficazes entre os alunos\, de forma a promover/recuperar as aprendizagens curriculares;\nDesenvolver competências metacognitivas nos alunos (autoavaliar-se e aprender a aprender);\nInstituir rotinas e instrumentos de trabalho que privilegiam uma avaliação formativa.\n\n CUSTO: Sem custo \nN.º Máximo: 20  \nINSCRIÇÕES EM:  www.cenforma.net \n
URL:https://www.cenforma.net/event/o-estudo-autonomo-e-o-apoio-individualizado-as-aprendizagens-na-sala-de-aula/
END:VEVENT
END:VCALENDAR