BEGIN:VCALENDAR
VERSION:2.0
PRODID:-//CENFORMA - ECPv4.7.0.1//NONSGML v1.0//EN
CALSCALE:GREGORIAN
METHOD:PUBLISH
X-WR-CALNAME:CENFORMA
X-ORIGINAL-URL:https://www.cenforma.net
X-WR-CALDESC:Events for CENFORMA
BEGIN:VEVENT
DTSTART;VALUE=DATE:20220718
DTEND;VALUE=DATE:20220719
DTSTAMP:20260423T133555
CREATED:20220705T103854Z
LAST-MODIFIED:20220705T103913Z
UID:2891-1658102400-1658188799@www.cenforma.net
SUMMARY:OS JOGOS DE SOFTBOL E BASEBOL – COMO INTRODUZI-LOS NA ESCOLA?
DESCRIPTION:  \n \n  \nAÇÃO DE CURTA DURAÇÃO  \nAcreditável em 6 horas mediante requerimento Individual de ACD \nFORMADOR: Paulo Pereira (Grau Mestre) \nDATA DE REALIZAÇÃO: 18 de Julho –  Das: 09:00hs Às 16:30hs \nPÚBLICO-ALVO: Professores dos grupos: 260 e 620. \n  \n CONTEÚDOS DA AÇÃO:  \n– Caraterização do jogo de Softbol e Basebol; \n– Espaços e equipamentos necessários à prática de Softbol e Basebol \n– Principais regras de Softbol e Basebol; \n– Jogos Pré-Desportivos: PlayBall e Baseball; \n5 – Objetivos\, material e espaços de jogo\, principais regras\, descrição do jogo e normas de segurança. \n  \nLOCAL DE REALIZAÇÃO: Escola Secundária de Alcochete (PRESENCIAL) \nN.º Máximo de Participantes: 20 \nINSCRIÇÕES EM: www.cenforma.net \n
URL:https://www.cenforma.net/event/os-jogos-de-softbol-e-basebol-como-introduzi-los-na-escola/
END:VEVENT
END:VCALENDAR