BEGIN:VCALENDAR
VERSION:2.0
PRODID:-//CENFORMA - ECPv4.7.0.1//NONSGML v1.0//EN
CALSCALE:GREGORIAN
METHOD:PUBLISH
X-WR-CALNAME:CENFORMA
X-ORIGINAL-URL:https://www.cenforma.net
X-WR-CALDESC:Events for CENFORMA
BEGIN:VEVENT
DTSTART;VALUE=DATE:20221004
DTEND;VALUE=DATE:20221005
DTSTAMP:20260423T170846
CREATED:20220923T111724Z
LAST-MODIFIED:20220923T111724Z
UID:2951-1664841600-1664927999@www.cenforma.net
SUMMARY:Para uma Fundamentação e Melhoria das Práticas de Avaliação Pedagógica: Projetos de Intervenção nos Domínios do Ensino e da Avaliação (2022-18)
DESCRIPTION:FORMADORA: Mariana Cortez \nMODALIDADE: Oficina de Formação \nDURAÇÃO: 50 horas (25hs + 25hs) \nDESTINATÁRIOS: Educadores de Infância\, Professores dos Ensinos Básico\, Secundário e de Educação Especial \nOBJETIVOS:  \n– Contribuir para o desenvolvimento de competências e conhecimentos no domínio da avaliação\, em geral\, e da avaliação pedagógica\, em particular\, congruentes com o real conteúdo das orientações constantes nos documentos legais;\n– Promover práticas de trabalho colaborativo e cooperativo na construção e desenvolvimento de projetos de avaliação pedagógica em contexto de sala de aula;\n– Elaborar recursos educativos de suporte ao desenvolvimento dos projetos de avaliação pedagógica;\n– Permitir a troca de materiais e experiências\, o esclarecimento de dúvidas e a geração de ideias e projetos de natureza pedagógica e didática;\n– Incrementar práticas de formação de natureza investigativa que confiram competências aos professores para lidar com a mudança e a inovação no âmbito da avaliação pedagógica. \nCRONOGRAMA: \nOutubro ⇒ 04\, 11\, 18 e 25 \n Novembro ⇒ 08\, 15\, 22 e 29 \nN.º Máximo de participantes: 20 \nLOCAL DE REALIZAÇÃO: (PRESENCIAL) Escola Secundária Jorge Peixinho. \nHORÁRIO: das 18:30h às 21:30h. \n
URL:https://www.cenforma.net/event/para-uma-fundamentacao-e-melhoria-das-praticas-de-avaliacao-pedagogica-projetos-de-intervencao-nos-dominios-do-ensino-e-da-avaliacao-2022-18/
END:VEVENT
END:VCALENDAR