BEGIN:VCALENDAR
VERSION:2.0
PRODID:-//CENFORMA - ECPv4.7.0.1//NONSGML v1.0//EN
CALSCALE:GREGORIAN
METHOD:PUBLISH
X-WR-CALNAME:CENFORMA
X-ORIGINAL-URL:https://www.cenforma.net
X-WR-CALDESC:Events for CENFORMA
BEGIN:VEVENT
DTSTART;VALUE=DATE:20230428
DTEND;VALUE=DATE:20230502
DTSTAMP:20260423T115554
CREATED:20220923T113909Z
LAST-MODIFIED:20221116T151111Z
UID:2955-1682640000-1682985599@www.cenforma.net
SUMMARY:Praga: Entre a II Guerra Mundial e Guerra Fria - (2022-26)
DESCRIPTION:ULTIMAS 5 VAGAS INSCRIÇÕES ATÉ 28 DE NOVEMBRO DE 2022\n\n  \n  \n  \n  \n  \n  \n  \n  \n  \n  \nFORMADOR: Ricardo Presumido \nMODALIDADE: Curso de Formação \nDURAÇÃO: 26 horas \nDESTINATÁRIOS: Todos os Docentes \nCRONOGRAMA: \n ⇒  28 de Abril  a 01 de Maio de 2023 \nLOCAL DE REALIZAÇÃO: Praga (PRESENCIAL) \nValor da Viagem + Guia (50€) + Certificação (10€)\n*Condições de participação devem ser solicitadas nos serviços administrativos do CENFORMA \n
URL:https://www.cenforma.net/event/praga-entre-a-ii-guerra-mundial-e-guerra-fria-2022-26/
END:VEVENT
END:VCALENDAR