BEGIN:VCALENDAR
VERSION:2.0
PRODID:-//CENFORMA - ECPv4.7.0.1//NONSGML v1.0//EN
CALSCALE:GREGORIAN
METHOD:PUBLISH
X-WR-CALNAME:CENFORMA
X-ORIGINAL-URL:https://www.cenforma.net
X-WR-CALDESC:Events for CENFORMA
BEGIN:VEVENT
DTSTART;VALUE=DATE:20231108
DTEND;VALUE=DATE:20231109
DTSTAMP:20260419T130030
CREATED:20231027T113847Z
LAST-MODIFIED:20231027T113941Z
UID:3157-1699401600-1699487999@www.cenforma.net
SUMMARY:(Re)pensar o presente\, preparar o futuro: os desafios da Inteligência Artificial 
DESCRIPTION: \nAção de Curta Duração – Ação acreditável como ACD  \nORADORES:   \nProf.º Doutor Arlindo Oliveira\, \nMestre Marco Neves. \nMODALIDADE – Ação de Curta Duração \nDURAÇÃO DA FORMAÇÃO –  3 h \nCALENDARIZAÇÃO – 08 de Novembro 2023\, das 16:30 às 19:30. \nPÚBLICO ALVO – Docentes de todos os grupos de recrutamento \nCRITÉRIOS DE SELEÇÃO – Ordem de Inscrição \nLOCAL DAS SESSÕES – Online – Plataforma ZOOM \n  \nOBJETIVOS: \n – Compreender o papel da IA no presente e no futuro;  \n  – Sensibilizar educadores e professores para as potencialidades e desafios da IA na educação;    \n  – Refletir sobre as implicações da inteligência artificial nas aprendizagens dos alunos;  \n  – Explorar plataformas de IA como instrumentos ao serviço da aprendizagem e conhecimento.  \n  \n
URL:https://www.cenforma.net/event/repensar-o-presente-preparar-o-futuro-os-desafios-da-inteligencia-artificial/
END:VEVENT
END:VCALENDAR