BEGIN:VCALENDAR
VERSION:2.0
PRODID:-//CENFORMA - ECPv4.7.0.1//NONSGML v1.0//EN
CALSCALE:GREGORIAN
METHOD:PUBLISH
X-WR-CALNAME:CENFORMA
X-ORIGINAL-URL:https://www.cenforma.net
X-WR-CALDESC:Events for CENFORMA
BEGIN:VEVENT
DTSTART;VALUE=DATE:20220520
DTEND;VALUE=DATE:20220521
DTSTAMP:20260423T151123
CREATED:20220510T120454Z
LAST-MODIFIED:20220510T120724Z
UID:2879-1653004800-1653091199@www.cenforma.net
SUMMARY:(Todos os grupos) – Capacitação Digital de Docentes – Nível 3 (2022_12)
DESCRIPTION:FORMADOR: João Mouro \nMODALIDADE: Oficina de Formação \nDURAÇÃO: 50 horas (25hs + 25hs) \nDESTINATÁRIOS:  \n1.º – Docentes de todos os grupos de recrutamento\, classificados no nível 3 de proficiência digital através do questionário “Check-In”. \n2.º – Docentes que já tenham realizado a ação de formação de Capacitação Digital de Docentes – Nível 2 . \nOBJETIVOS: \nPretende-se desenvolver com os docentes de nível 3 (C1/C2 do DigCompEdu) um conjunto de conhecimentos e de processos que lhes permita potenciar as suas competências digitais na promoção de estratégias e ações inovadoras na comunidade educativa. \nSão objetivos específicos: – Formular estratégias pedagógicas inovadoras e promotoras das CD dos docentes e alunos; \n– Capacitar os docentes para a realização de atividades com tecnologias digitais em diferentes modalidades de ensino; \n– Promover o desenvolvimento de ações que contribuam para os Plano de Ação para o Desenvolvimento Digital das suas escolas; \n– Promover e estimular a reflexão\, a partilha e a utilização crítica das tecnologias digitais em contexto educativo. \nCRONOGRAMA: \n⇒ MAIO:  20 e 27. \n⇒ JUNHO:  03; 17 e 24. \n⇒ JULHO: 01; 08 e 15. \nHORÁRIO: Das 18:30h às 21:30h. \nLOCAL DE REALIZAÇÃO: Online e a Distância – Plataformas ZOOM e MOODLE do CENFORMA \nLimite máximo: 20 \n
URL:https://www.cenforma.net/event/todos-os-grupos-capacitacao-digital-de-docentes-nivel-3-2/
END:VEVENT
END:VCALENDAR